BEGIN:VCALENDAR
VERSION:2.0
PRODID:-//wp-events-plugin.com//7.2.3.1//EN
BEGIN:VEVENT
UID:113@kdeconcept.com
DTSTART:20260514T140000Z
DTEND:20260515T020000Z
DTSTAMP:20260419T043756Z
URL:https://kdeconcept.com/fr/calendrier-emissions/emission-du-14-05-2026-
 la-speciale-2026/
SUMMARY:Emission du 14.05.2026 La spéciale 2026
DESCRIPTION:
ATTACH;FMTTYPE=image/jpeg:https://kdeconcept.com/wp-content/uploads/2022/1
 0/cropped-Fly-KDE-2021.jpg
CATEGORIES:DIRECTS
LOCATION:RADIO RDAUTAN\, 10\,RUE DE LA MAIRIE\, Lavaur\, France\, 81500\, O
 ccitanie\, France
X-APPLE-STRUCTURED-LOCATION;VALUE=URI;X-ADDRESS=10\,RUE DE LA MAIRIE\, Lava
 ur\, France\, 81500\, Occitanie\, France;X-APPLE-RADIUS=100;X-TITLE=RADIO 
 RDAUTAN:geo:0,0
END:VEVENT
END:VCALENDAR