BEGIN:VCALENDAR
VERSION:2.0
PRODID:-//wp-events-plugin.com//7.2.3.1//EN
BEGIN:VEVENT
UID:117@kdeconcept.com
DTSTART:20260703T210000Z
DTEND:20260710T010000Z
DTSTAMP:20260419T043607Z
URL:https://kdeconcept.com/fr/calendrier-emissions/emission-du-03-et-10-07
 -2026-la-derniere-de-la-saison/
SUMMARY:Emission du 03 et 10.07.2026 - La dernière de la saison
DESCRIPTION:
ATTACH;FMTTYPE=image/jpeg:https://kdeconcept.com/wp-content/uploads/2022/1
 0/cropped-Fly-KDE-2021.jpg
CATEGORIES:DIRECTS
LOCATION:RADIO RDAUTAN\, 10\,RUE DE LA MAIRIE\, Lavaur\, France\, 81500\, O
 ccitanie\, France
X-APPLE-STRUCTURED-LOCATION;VALUE=URI;X-ADDRESS=10\,RUE DE LA MAIRIE\, Lava
 ur\, France\, 81500\, Occitanie\, France;X-APPLE-RADIUS=100;X-TITLE=RADIO 
 RDAUTAN:geo:0,0
END:VEVENT
END:VCALENDAR